BEGIN:VCALENDAR
VERSION:2.0
PRODID:-//WA’s Individualised Services - ECPv6.11.2.1//NONSGML v1.0//EN
CALSCALE:GREGORIAN
METHOD:PUBLISH
X-WR-CALNAME:WA’s Individualised Services
X-ORIGINAL-URL:https://waindividualisedservices.org.au
X-WR-CALDESC:Events for WA’s Individualised Services
REFRESH-INTERVAL;VALUE=DURATION:PT1H
X-Robots-Tag:noindex
X-PUBLISHED-TTL:PT1H
BEGIN:VTIMEZONE
TZID:Asia/Shanghai
BEGIN:STANDARD
TZOFFSETFROM:+0800
TZOFFSETTO:+0800
TZNAME:CST
DTSTART:20210101T000000
END:STANDARD
END:VTIMEZONE
BEGIN:VEVENT
DTSTART;TZID=Asia/Shanghai:20221107T100000
DTEND;TZID=Asia/Shanghai:20221107T161500
DTSTAMP:20260420T000610
CREATED:20221010T043321Z
LAST-MODIFIED:20221010T043357Z
UID:34241-1667815200-1667837700@waindividualisedservices.org.au
SUMMARY:Supported Decision Making - An Alternative to Guardianship
DESCRIPTION:Supported Decision Making  \nPeople need to be able to exercise their rights. Our focus moves from asking whether a person has legal capacity or not\, to asking what support does a person need. \nWhen people need support with communication and decision making\, in the past it's been seen as their problem. \nThe social model of disability says that the 'problem' is with the environment around the person. We can change the things in the environment which make it hard for people to make their own decisions and lead their own lives. We can give people the support they need to make decisions and lead their lives. \nCome and explore \n\nWhat is meant by supported decision making\nThe beliefs and skills of an effective decision supporter\nSome resources that can help you in your role as a supporter\n\nCost: $30.  If the cost of the ticket prevents you being able to attend\, please contact us on 9481 0101 or email us admin@waindividualisedservices.org.au \nWhen: 13 September 2023 \nTime: 10am - 2pm. Lunch is included \nWhere: Bendat Centre\, 36 Dodd Street Wembley \nTo register: Click here \nFor more information: Call 9481 0101 \n  \n 
URL:https://waindividualisedservices.org.au/event/supproted-decision-making-an-alternative-to-guardianship/
LOCATION:Bendat Parent and Community Centre\, 36 Dodd St \, Wembley\, WA\, 6014\, Australia
CATEGORIES:WAiS Events
END:VEVENT
BEGIN:VEVENT
DTSTART;TZID=Asia/Shanghai:20220913T100000
DTEND;TZID=Asia/Shanghai:20220913T140000
DTSTAMP:20260420T000610
CREATED:20230807T222020Z
LAST-MODIFIED:20230807T222157Z
UID:37955-1663063200-1663077600@waindividualisedservices.org.au
SUMMARY:Supported Decision Making
DESCRIPTION:Supported Decision Making  \nPeople need to be able to exercise their rights. Our focus moves from asking whether a person has legal capacity or not\, to asking what support does a person need. \nWhen people need support with communication and decision making\, in the past it's been seen as their problem. \nThe social model of disability says that the 'problem' is with the environment around the person. We can change the things in the environment which make it hard for people to make their own decisions and lead their own lives. We can give people the support they need to make decisions and lead their lives. \nCome and explore \n\nWhat is meant by supported decision making\nThe beliefs and skills of an effective decision supporter\nSome resources that can help you in your role as a supporter\n\nCost: $30.  If the cost of the ticket prevents you being able to attend\, please contact us on 9481 0101 or email us admin@waindividualisedservices.org.au \nWhen: 13 September 2023 \nTime: 10am - 2pm. Lunch is included \nWhere: Bendat Centre\, 36 Dodd Street Wembley \nTo register: Click here \nFor more information: Call 9481 0101 \n  \n 
URL:https://waindividualisedservices.org.au/event/supported-decision-making/
LOCATION:Bendat Parent and Community Centre\, 36 Dodd St \, Wembley\, WA\, 6014\, Australia
CATEGORIES:WAiS Events,NDIS Quality and Safeguards
END:VEVENT
BEGIN:VEVENT
DTSTART;TZID=Asia/Shanghai:20210609T100000
DTEND;TZID=Asia/Shanghai:20210609T110000
DTSTAMP:20260420T000610
CREATED:20210518T045554Z
LAST-MODIFIED:20210518T045554Z
UID:27264-1623232800-1623236400@waindividualisedservices.org.au
SUMMARY:Monthly Online Chat with WAiS about NDIS Quality and Safeguards Commission
DESCRIPTION:Supported Decision Making  \nPeople need to be able to exercise their rights. Our focus moves from asking whether a person has legal capacity or not\, to asking what support does a person need. \nWhen people need support with communication and decision making\, in the past it's been seen as their problem. \nThe social model of disability says that the 'problem' is with the environment around the person. We can change the things in the environment which make it hard for people to make their own decisions and lead their own lives. We can give people the support they need to make decisions and lead their lives. \nCome and explore \n\nWhat is meant by supported decision making\nThe beliefs and skills of an effective decision supporter\nSome resources that can help you in your role as a supporter\n\nCost: $30.  If the cost of the ticket prevents you being able to attend\, please contact us on 9481 0101 or email us admin@waindividualisedservices.org.au \nWhen: 13 September 2023 \nTime: 10am - 2pm. Lunch is included \nWhere: Bendat Centre\, 36 Dodd Street Wembley \nTo register: Click here \nFor more information: Call 9481 0101 \n  \n 
URL:https://waindividualisedservices.org.au/event/monthly-online-chat-with-wais-about-ndis-quality-and-safeguards-commission-2/
LOCATION:WA
CATEGORIES:WAiS Events
END:VEVENT
BEGIN:VEVENT
DTSTART;TZID=Asia/Shanghai:20210604T103000
DTEND;TZID=Asia/Shanghai:20210604T123000
DTSTAMP:20260420T000610
CREATED:20210513T024742Z
LAST-MODIFIED:20210513T024743Z
UID:27222-1622802600-1622809800@waindividualisedservices.org.au
SUMMARY:Self Management & NDIS Quality and Safeguards (Kalgoorlie)
DESCRIPTION:Supported Decision Making  \nPeople need to be able to exercise their rights. Our focus moves from asking whether a person has legal capacity or not\, to asking what support does a person need. \nWhen people need support with communication and decision making\, in the past it's been seen as their problem. \nThe social model of disability says that the 'problem' is with the environment around the person. We can change the things in the environment which make it hard for people to make their own decisions and lead their own lives. We can give people the support they need to make decisions and lead their lives. \nCome and explore \n\nWhat is meant by supported decision making\nThe beliefs and skills of an effective decision supporter\nSome resources that can help you in your role as a supporter\n\nCost: $30.  If the cost of the ticket prevents you being able to attend\, please contact us on 9481 0101 or email us admin@waindividualisedservices.org.au \nWhen: 13 September 2023 \nTime: 10am - 2pm. Lunch is included \nWhere: Bendat Centre\, 36 Dodd Street Wembley \nTo register: Click here \nFor more information: Call 9481 0101 \n  \n 
URL:https://waindividualisedservices.org.au/event/self-management-ndis-quality-and-safeguards-kalgoorlie/
LOCATION:15 Dugan Street Kalgoorlie\, 15 Dugan Street\, Kalgoorlie\, WA\, 6430\, Australia
CATEGORIES:WAiS Events
END:VEVENT
BEGIN:VEVENT
DTSTART;TZID=Asia/Shanghai:20210512T100000
DTEND;TZID=Asia/Shanghai:20210512T110000
DTSTAMP:20260420T000610
CREATED:20210421T022531Z
LAST-MODIFIED:20210421T022532Z
UID:26970-1620813600-1620817200@waindividualisedservices.org.au
SUMMARY:Monthly Online Chat with WAiS about NDIS Quality and Safeguards Commission
DESCRIPTION:Supported Decision Making  \nPeople need to be able to exercise their rights. Our focus moves from asking whether a person has legal capacity or not\, to asking what support does a person need. \nWhen people need support with communication and decision making\, in the past it's been seen as their problem. \nThe social model of disability says that the 'problem' is with the environment around the person. We can change the things in the environment which make it hard for people to make their own decisions and lead their own lives. We can give people the support they need to make decisions and lead their lives. \nCome and explore \n\nWhat is meant by supported decision making\nThe beliefs and skills of an effective decision supporter\nSome resources that can help you in your role as a supporter\n\nCost: $30.  If the cost of the ticket prevents you being able to attend\, please contact us on 9481 0101 or email us admin@waindividualisedservices.org.au \nWhen: 13 September 2023 \nTime: 10am - 2pm. Lunch is included \nWhere: Bendat Centre\, 36 Dodd Street Wembley \nTo register: Click here \nFor more information: Call 9481 0101 \n  \n 
URL:https://waindividualisedservices.org.au/event/monthly-online-chat-with-wais-about-ndis-quality-and-safeguards-commission/
LOCATION:WA
CATEGORIES:WAiS Events
END:VEVENT
END:VCALENDAR